BEGIN:VCALENDAR
PRODID:-//Google Inc//Google Calendar 70.9054//EN
VERSION:2.0
CALSCALE:GREGORIAN
METHOD:PUBLISH
X-WR-CALNAME:Kindergarten
X-WR-TIMEZONE:UTC
X-WR-CALDESC:Schliesz
BEGIN:VEVENT
DTSTART:20251017T153000Z
DTEND:20251018T100000Z
DTSTAMP:20260106T214830Z
UID:a43cd7d1-3ec7-4934-b5e7-3cbfd85c0bf3
CREATED:20251105T092918Z
DESCRIPTION:Übernachtung von Freitag zu Samstag. Thema ist "Tag der Sinne".
  Abholung am Samstag um 10.00 Uhr
LAST-MODIFIED:20251105T092918Z
LOCATION:Kindergarten Sonnenkäfer\, Beethovenstr. 29\, 12683 Berlin
SEQUENCE:0
STATUS:CONFIRMED
SUMMARY:Übernachtung in der Kita
TRANSP:OPAQUE
END:VEVENT
BEGIN:VEVENT
DTSTART;VALUE=DATE:20221025
DTEND;VALUE=DATE:20221102
DTSTAMP:20260106T214830Z
UID:6gr3cp1o6sp3ib9o6sq36b9kcph64b9p61gm8bb4c5h32cj170sj4c9i60@google.com
CREATED:20231109T134549Z
LAST-MODIFIED:20231109T134549Z
SEQUENCE:0
STATUS:CONFIRMED
SUMMARY:Schießzeit
TRANSP:TRANSPARENT
END:VEVENT
BEGIN:VEVENT
DTSTART:20251210T130000Z
DTEND:20251210T151500Z
DTSTAMP:20260106T214830Z
UID:ecf3472d-1bef-4b4d-817b-42834534025e
CREATED:20251105T092918Z
DESCRIPTION:Programm im Kursana Domizil Berlin-Lichtenberg. Abholung durch 
 die Eltern gegen 16.00 Uhr
LAST-MODIFIED:20251210T144520Z
LOCATION:Gensinger Str. 103\, 10315 Berlin
SEQUENCE:3
STATUS:CONFIRMED
SUMMARY:Kita geht ins Seniorenheim
TRANSP:OPAQUE
END:VEVENT
BEGIN:VEVENT
DTSTART;VALUE=DATE:20260515
DTEND;VALUE=DATE:20260516
DTSTAMP:20260106T214830Z
UID:4a824977-0305-458a-9dfa-b81e0d498834
CREATED:20251105T092918Z
DESCRIPTION:Brückentag nach Himmelfahrt
LAST-MODIFIED:20251105T092918Z
LOCATION:Kindergarten Sonnenkäfer\, Beethovenstr. 29\, 12683 Berlin
SEQUENCE:0
STATUS:CONFIRMED
SUMMARY:Kita ist geschlossen
TRANSP:OPAQUE
END:VEVENT
BEGIN:VEVENT
DTSTART:20231110T153000Z
DTEND:20231110T163000Z
DTSTAMP:20260106T214830Z
UID:5gr2ec3tu5hfi0m3e2ver0so8v@google.com
CREATED:20231108T102649Z
LAST-MODIFIED:20231108T102649Z
SEQUENCE:0
STATUS:CONFIRMED
SUMMARY:Laternen-Fest
TRANSP:OPAQUE
END:VEVENT
BEGIN:VEVENT
DTSTART:20251217T143000Z
DTEND:20251217T160000Z
DTSTAMP:20260106T214830Z
UID:99677a60-6adb-4b9c-938e-f280d84656ce
CREATED:20251105T092918Z
DESCRIPTION:Weihnachtsfeier der Strolche mit den Eltern
LAST-MODIFIED:20251105T094825Z
LOCATION:Kindergarten Sonnenkäfer\, Beethovenstr. 29\, 12683 Berlin
SEQUENCE:1
STATUS:CONFIRMED
SUMMARY:Weihnachtsfeier in der Kita
TRANSP:OPAQUE
END:VEVENT
BEGIN:VEVENT
DTSTART;VALUE=DATE:20251224
DTEND;VALUE=DATE:20260104
DTSTAMP:20260106T214830Z
UID:7930c515-75a7-49fa-9c17-38d89ce443bc
CREATED:20251105T092918Z
LAST-MODIFIED:20251105T092918Z
LOCATION:Kindergarten Sonnenkäfer\, Beethovenstr. 29\, 12683 Berlin
SEQUENCE:0
STATUS:CONFIRMED
SUMMARY:Kita ist geschlossen
TRANSP:OPAQUE
END:VEVENT
BEGIN:VEVENT
DTSTART:20260402T090000Z
DTEND:20260402T110000Z
DTSTAMP:20260106T214830Z
UID:89fb3d49-ab0f-4cd8-beb3-122c5704c62a
CREATED:20251105T092918Z
LAST-MODIFIED:20251105T092918Z
LOCATION:Kindergarten Sonnenkäfer\, Beethovenstr. 29\, 12683 Berlin
SEQUENCE:0
STATUS:CONFIRMED
SUMMARY:Osterfrühstück in der Kita
TRANSP:OPAQUE
END:VEVENT
BEGIN:VEVENT
DTSTART;VALUE=DATE:20260305
DTEND;VALUE=DATE:20260306
DTSTAMP:20260106T214830Z
UID:5a462a6f-8cf6-4604-be80-30cb4d5ab73c
CREATED:20251105T092918Z
DESCRIPTION:1.Hilfe-Fortbildung aller Erzieher
LAST-MODIFIED:20251105T092918Z
LOCATION:Kindergarten Sonnenkäfer\, Beethovenstr. 29\, 12683 Berlin
SEQUENCE:0
STATUS:CONFIRMED
SUMMARY:Kita ist geschlossen
TRANSP:OPAQUE
END:VEVENT
BEGIN:VEVENT
DTSTART;VALUE=DATE:20260526
DTEND;VALUE=DATE:20260527
DTSTAMP:20260106T214830Z
UID:1r0465gsofs2be5tlqn9eo1prl@google.com
CREATED:20251105T093328Z
LAST-MODIFIED:20251105T093328Z
SEQUENCE:0
STATUS:CONFIRMED
SUMMARY:Kita ist geschlossen
TRANSP:TRANSPARENT
END:VEVENT
BEGIN:VEVENT
DTSTART:20251106T143000Z
DTEND:20251106T150000Z
DTSTAMP:20260106T214830Z
UID:bca46678-5fa3-4587-b1a5-d2427ede430c
CREATED:20251105T092918Z
DESCRIPTION:Beokiz Fortbildung der Mitarbeiter
LAST-MODIFIED:20251105T092918Z
LOCATION:Kindergarten Sonnenkäfer\, Beethovenstr. 29\, 12683 Berlin
SEQUENCE:0
STATUS:CONFIRMED
SUMMARY:Kita schließt um 15 Uhr
TRANSP:OPAQUE
END:VEVENT
BEGIN:VEVENT
DTSTART;VALUE=DATE:20260622
DTEND;VALUE=DATE:20260623
DTSTAMP:20260106T214830Z
UID:408opeetan3oph0kiisarblb7i@google.com
CREATED:20260106T214652Z
LAST-MODIFIED:20260106T214652Z
SEQUENCE:0
STATUS:CONFIRMED
SUMMARY:Kita ist geschlossen
TRANSP:TRANSPARENT
END:VEVENT
BEGIN:VEVENT
DTSTART:20260522T090000Z
DTEND:20260522T110000Z
DTSTAMP:20260106T214830Z
UID:62e10336-71aa-4967-b5a8-2c75516e7cce
CREATED:20251105T092918Z
DESCRIPTION:Im Schillertheater wird "Peter und der Wolf" gespielt (Unkosten
 beitrag 6 €)
LAST-MODIFIED:20251105T092918Z
LOCATION:Bismarckstraße 110\, 10625 Berlin
SEQUENCE:0
STATUS:CONFIRMED
SUMMARY:Kita geht ins Schillertheater
TRANSP:OPAQUE
END:VEVENT
BEGIN:VEVENT
DTSTART;VALUE=DATE:20221222
DTEND;VALUE=DATE:20230103
DTSTAMP:20260106T214830Z
UID:68q30choccsm4b9o75h68b9k6sr62b9o71gmab9j6gs3cpj6c4p36c366c@google.com
CREATED:20220215T105535Z
LAST-MODIFIED:20220215T105535Z
SEQUENCE:0
STATUS:CONFIRMED
SUMMARY:Schießzeit
TRANSP:TRANSPARENT
END:VEVENT
BEGIN:VEVENT
DTSTART:20251114T153000Z
DTEND:20251114T170000Z
DTSTAMP:20260106T214830Z
UID:696e9531-56aa-4665-acee-fc7c442df5cb
CREATED:20251105T092918Z
LAST-MODIFIED:20251105T094736Z
LOCATION:Kindergarten Sonnenkäfer\, Beethovenstr. 29\, 12683 Berlin
SEQUENCE:1
STATUS:CONFIRMED
SUMMARY:Laternenfest in der Kita
TRANSP:OPAQUE
END:VEVENT
BEGIN:VEVENT
DTSTART;VALUE=DATE:20230519
DTEND;VALUE=DATE:20230520
DTSTAMP:20260106T214830Z
UID:0do32l95i2nu0rb4ll22g0r3tu@google.com
CREATED:20230509T073441Z
LAST-MODIFIED:20230509T073441Z
SEQUENCE:0
STATUS:CONFIRMED
SUMMARY:Brückentag
TRANSP:TRANSPARENT
END:VEVENT
BEGIN:VEVENT
DTSTART:20250918T090000Z
DTEND:20250918T110000Z
DTSTAMP:20260106T214830Z
UID:47881a52-fa58-47ce-9fe1-0f683ac27f47
CREATED:20251105T092918Z
LAST-MODIFIED:20251105T092918Z
LOCATION:Kindergarten Sonnenkäfer\, Beethovenstr. 29\, 12683 Berlin
SEQUENCE:0
STATUS:CONFIRMED
SUMMARY:Zahnputz-Kroko kommt in die Kita
TRANSP:OPAQUE
END:VEVENT
BEGIN:VEVENT
DTSTART;VALUE=DATE:20220419
DTEND;VALUE=DATE:20220423
DTSTAMP:20260106T214830Z
UID:c8s3apb264r64b9h6kp6cb9k60o30b9p68r62b9hccs3gp1mc4p34cb56o@google.com
CREATED:20220215T105323Z
LAST-MODIFIED:20220215T105323Z
SEQUENCE:0
STATUS:CONFIRMED
SUMMARY:Schließzeit
TRANSP:TRANSPARENT
END:VEVENT
BEGIN:VEVENT
DTSTART:20241008T150000Z
DTEND:20241008T160000Z
DTSTAMP:20260106T214830Z
UID:574037e80d7f2618bc767e5ee6407bb0da306cc1
CREATED:20240830T074738Z
DESCRIPTION:https://us04web.zoom.us/j/4857069037?pwd=Tm12L2huVGd1VVhmY0ozUD
 FJTk9JZz09&omn=75688514988
LAST-MODIFIED:20241008T085429Z
LOCATION:Kindergarten Sonnenkäfer\, Beethovenstraße 29\, 12683 Berlin\, Deu
 tschland
SEQUENCE:7
STATUS:CONFIRMED
SUMMARY:Elternvertretungsversammlung
TRANSP:OPAQUE
END:VEVENT
BEGIN:VEVENT
DTSTART;VALUE=DATE:20260601
DTEND;VALUE=DATE:20260605
DTSTAMP:20260106T214830Z
UID:d9ad56e1-3fa8-4afa-845b-3495b2febb0b
CREATED:20251105T092918Z
DESCRIPTION:Kitafahrt der "Kleinen Strolche" ins Störitzland (ca. 210 €). A
 bholung der Elter im Störitzland.
LAST-MODIFIED:20251105T092918Z
LOCATION:Kindergarten Sonnenkäfer\, Beethovenstr. 29\, 12683 Berlin
SEQUENCE:0
STATUS:CONFIRMED
SUMMARY:Kitafahrt
TRANSP:OPAQUE
END:VEVENT
BEGIN:VEVENT
DTSTART;VALUE=DATE:20220512
DTEND;VALUE=DATE:20220514
DTSTAMP:20260106T214830Z
UID:6gq64chn71i6ab9nc8sj8b9k64o34b9oc9hjabb564r3iopj70s64pj368@google.com
CREATED:20220215T105403Z
LAST-MODIFIED:20220215T105403Z
SEQUENCE:0
STATUS:CONFIRMED
SUMMARY:Schlieszeit
TRANSP:TRANSPARENT
END:VEVENT
BEGIN:VEVENT
DTSTART;VALUE=DATE:20220718
DTEND;VALUE=DATE:20220809
DTSTAMP:20260106T214830Z
UID:6hh32cb16cq64b9m75i30b9k6orm4b9pc4r64b9pccs32oj460o64dpp6o@google.com
CREATED:20220215T105438Z
LAST-MODIFIED:20220729T093818Z
SEQUENCE:1
STATUS:CONFIRMED
SUMMARY:🏖Schießzeit
TRANSP:TRANSPARENT
X-MICROSOFT-CDO-INSTTYPE:0
X-MICROSOFT-CDO-APPT-SEQUENCE:0
END:VEVENT
BEGIN:VEVENT
DTSTART;VALUE=DATE:20221025
DTEND;VALUE=DATE:20221102
DTSTAMP:20260106T214830Z
UID:c4rj4opg61im2bb46cq6ab9kc9ij2b9o6tim8b9jc8o30d9gc8s36p9k64@google.com
CREATED:20220215T105516Z
LAST-MODIFIED:20220901T160214Z
SEQUENCE:1
STATUS:CONFIRMED
SUMMARY:Schießzeit
TRANSP:TRANSPARENT
END:VEVENT
BEGIN:VEVENT
DTSTART:20251119T090000Z
DTEND:20251119T110000Z
DTSTAMP:20260106T214830Z
UID:a49cf35b-d710-4fa7-baad-ea68e61f612c
CREATED:20251105T092918Z
LAST-MODIFIED:20251105T092918Z
LOCATION:Kindergarten Sonnenkäfer\, Beethovenstr. 29\, 12683 Berlin
SEQUENCE:0
STATUS:CONFIRMED
SUMMARY:Fotograf in der Kita
TRANSP:OPAQUE
END:VEVENT
BEGIN:VEVENT
DTSTART:20251218T090000Z
DTEND:20251218T130000Z
DTSTAMP:20260106T214830Z
UID:da5e7667-84fe-4abc-8f9d-b86dc6109eb0
CREATED:20251105T092918Z
DESCRIPTION:Berliner Puppentheater spielt "Petterson und Findus feiern Weih
 nachten" (Unkostenbeitrag 6 €)
LAST-MODIFIED:20251105T094850Z
LOCATION:Kindergarten Sonnenkäfer\, Beethovenstr. 29\, 12683 Berlin
SEQUENCE:0
STATUS:CONFIRMED
SUMMARY:Berliner Puppentheater in der Kita
TRANSP:OPAQUE
END:VEVENT
END:VCALENDAR
